BEGIN:VCALENDAR
VERSION:2.0
PRODID:-//Ti Tree Spirit - ECPv4.9.7//NONSGML v1.0//EN
CALSCALE:GREGORIAN
METHOD:PUBLISH
X-WR-CALNAME:Ti Tree Spirit
X-ORIGINAL-URL:https://titreespirit.com.au
X-WR-CALDESC:Events for Ti Tree Spirit
BEGIN:VTIMEZONE
TZID:"Australia/Sydney"
BEGIN:STANDARD
TZOFFSETFROM:+1100
TZOFFSETTO:+1000
TZNAME:AEST
DTSTART:20180331T160000
END:STANDARD
BEGIN:DAYLIGHT
TZOFFSETFROM:+1000
TZOFFSETTO:+1100
TZNAME:AEDT
DTSTART:20181006T160000
END:DAYLIGHT
END:VTIMEZONE
BEGIN:VEVENT
DTSTART;TZID="Australia/Sydney":20180915T090000
DTEND;TZID="Australia/Sydney":20180915T120000
DTSTAMP:20210224T094806
CREATED:20180809T045506Z
LAST-MODIFIED:20180913T234553Z
UID:428-1537002000-1537012800@titreespirit.com.au
SUMMARY:Conversations in Herbal Medicine with Rob Santich - Mullumbimby
DESCRIPTION:“As you store great things in your medicine bag\, you do so for the next generation.”\n– Oglala Lakota \n  \nJoin Rob Santich\, renowned Herbalist\, Naturopath and Director of TiTree Spirit Herbals\,\nfor a conversation on Herbal Energetics in Modern Practice. \n  \n\n  \nHaving spent 35 years in successful Practice\, Rob is set to deliver a poignant reminder on the importance and application of energetics to Traditional Western Herbal Medicine. Joined by Dr Kathrine Harrison\, Intuitive Healer and Chiropractor\, to embody an energetic space and expand the learning experience for you. \nThe art of energetic states underpins Traditional Western Herbal Medicine however is largely overlooked in modern education systems. The first in a series of Conversations\, Rob inspires the need for education\, re-education and continuing discussion on how and why understanding energetic tissue states \nis imperative to effective healing and long-term vitality. Rob will expand on concepts of continuum states\, the dynamic and always changing conditions of: \n\nHeat/ Excitement\nCold/Depression\nDry/ Atrophy\nDamp/ Torpor/ Stagnation\nWind/ Constriction/ Tension\nDamp/ Relaxation\n\n  \nEvening Overview \n\n9:00am Guided meditation by Dr Kathrine Harrison\n9.30 pm – 12pm Conversations in Herbal Medicine with Rob Santich \nMorning Tea will be provided. \n  \nGuests Receive \n\nComplementary notes and eligibility to apply for CPE points. \n  \n  \n‘Conversations in Herbal Medicine’ Events are proudly brought to you by TiTree Spirit Herbals Pty Ltd \n  \n
URL:https://titreespirit.com.au/event/conversations-in-herbal-medicine-with-rob-santich-mullumbimby/
LOCATION:Mullumbimby Civic Memorial Hall\, NSW\, 55 Dalley St\, Mullumbimby\, NSW\, 2482\, Australia
END:VEVENT
END:VCALENDAR